BEGIN:VCALENDAR
VERSION:2.0
PRODID:-//Texas Education Technology Leaders//Silkstart Technology Inc.//
BEGIN:VTIMEZONE
TZID:America/Chicago
BEGIN:DAYLIGHT
DTSTART;VALUE=DATE-TIME:20260308T020000
TZNAME:CDT
TZOFFSETFROM:-0600
TZOFFSETTO:-0500
END:DAYLIGHT
BEGIN:STANDARD
DTSTART;VALUE=DATE-TIME:20261101T020000
TZNAME:CST
TZOFFSETFROM:-0500
TZOFFSETTO:-0600
END:STANDARD
END:VTIMEZONE
BEGIN:VEVENT
SUMMARY:TETL Network & Engagement Committee Meeting
DTSTART;TZID=America/Chicago;VALUE=DATE-TIME:20260512T110000
DTEND;TZID=America/Chicago;VALUE=DATE-TIME:20260512T120000
DTSTAMP;VALUE=DATE-TIME:20251104T183129
UID:690a46811995c705b9cc78e4
DESCRIPTION:https://us02web.zoom.us/j/87886588483?pwd=xNbCQs04rWa64A8sVf557
 RniqSOEwY.1 
LOCATION:https://us02web.zoom.us/j/87886588483?pwd=xNbCQs04rWa64A8sVf557Rni
 qSOEwY.1 
PRIORITY:5
URL:https://www.tetl.org:443/events/network-engagement-committee-meeting-5
END:VEVENT
END:VCALENDAR
