BEGIN:VCALENDAR
VERSION:2.0
PRODID:-//Texas Education Technology Leaders//Silkstart Technology Inc.//
BEGIN:VTIMEZONE
TZID:America/Chicago
BEGIN:DAYLIGHT
DTSTART;VALUE=DATE-TIME:20260308T020000
TZNAME:CDT
TZOFFSETFROM:-0600
TZOFFSETTO:-0500
END:DAYLIGHT
BEGIN:STANDARD
DTSTART;VALUE=DATE-TIME:20261101T020000
TZNAME:CST
TZOFFSETFROM:-0500
TZOFFSETTO:-0600
END:STANDARD
END:VTIMEZONE
BEGIN:VEVENT
SUMMARY:TETL Communication Committee Meeting
DTSTART;TZID=America/Chicago;VALUE=DATE-TIME:20260513T140000
DTEND;TZID=America/Chicago;VALUE=DATE-TIME:20260513T150000
DTSTAMP;VALUE=DATE-TIME:20250820T165721
UID:68a5fe7157912605ed25d6c6
DESCRIPTION: Join Zoom Meeting https://us02web.zoom.us/s/83657527941 
LOCATION:
PRIORITY:5
URL:https://www.tetl.org:443/events/tetl-next-digital-shift-committee-9
END:VEVENT
END:VCALENDAR
